BEGIN:VCALENDAR
PRODID:-//kirchenweb.ch gmbh//veranstaltungsausgabe v2.0//DE
VERSION:2.0
METHOD:PUBLISH
BEGIN:VEVENT
DTSTART:20260719T080000Z
DTEND:20260719T090000Z
LOCATION:Evang.-ref. Kirche Arth-Goldau\, Gotthardstrasse 26\, 6414
  Oberarth
TRANSP:OPAQUE
SEQUENCE:0
UID:4812-veranstaltung@ref-einsiedeln.ch
DTSTAMP:20260416T124847Z
DESCRIPTION:Wir sind Gäste im Gottesdienst in Arth Goldau. Für die
  gemeinsame Anreise: Treffpunkt Parkplatz um 09. Uhr. Anmeldung bis am 14.
  Juli 2026 im Sekretariat oder via Online-Formular (siehe unten).\n
 \nKontakt: bettina.breitenstein@ref-einsiedeln.ch\n\nWeitere Infos:
  https://www.ref-einsiedeln.ch/veranstaltung/4812
SUMMARY:Reisekirche in Arth-Goldau Anmeldung
PRIORITY:5
X-MICROSOFT-CDO-IMPORTANCE:1
CLASS:PUBLIC
END:VEVENT
END:VCALENDAR
