BEGIN:VCALENDAR
PRODID:-//kirchenweb.ch gmbh//veranstaltungsausgabe v2.0//DE
VERSION:2.0
METHOD:PUBLISH
BEGIN:VEVENT
DTSTART:20260711T052400Z
DTEND:20260711T174600Z
LOCATION:auswärts\, \,
TRANSP:OPAQUE
SEQUENCE:0
UID:4883-veranstaltung@ref-einsiedeln.ch
DTSTAMP:20260313T092511Z
DESCRIPTION:Programm\n\nEinsiedeln ab 7.24\nvia Biberbrugg – Luzern –
  Brünig – Meiringen - Grimselpass\nOberwald an 12.30\n\nMittagessen\n
 \nOberwald ab 13.50 Dampfzug\nRealp an 16.15\n\nEventuell Stop im Bistro\n
 \nRealp ab 16.31 oder 17.05\nvia Andermatt – Arth-Goldau\nEinsiedeln an
  18.46 oder 19.46\n\nBillette\nWer keine GA besitzt besorgt sich sofort
  eine Tageskarte!\n\nKosten\nDa wir von der Kirchgemeinde einen Beitrag
  erhalten richtet sich der Preis schlussendlich nach der\nTeilnehmerzahl.
  Preisspanne: 60.00 bis 80.00 Fr. (Mittagessen und Dampfbahn)\n\nAnmeldung
 \nDamit wir sicher Platz haben benötigen wir die Anmeldung bis 28.
  Februar 2026 bei Fritz Lengacher\n\n\nKontakt: Fritz Lengacher: 079 427
  01 09\n\nWeitere Infos: https://www.ref-einsiedeln.ch/veranstaltung/4883
SUMMARY:Männerstammreise "Reise zur Dampfbahn Furka-Bergstrecke"
  (Anmeldung bis 28. Februar 2026)
PRIORITY:5
X-MICROSOFT-CDO-IMPORTANCE:1
CLASS:PUBLIC
END:VEVENT
END:VCALENDAR
