BEGIN:VCALENDAR
PRODID:-//kirchenweb.ch gmbh//veranstaltungsausgabe v2.0//DE
VERSION:2.0
METHOD:PUBLISH
BEGIN:VEVENT
DTSTART:20261114T120000Z
DTEND:20261114T140000Z
LOCATION:Kirchgemeindehaus\, Schlüsselmattweg\, 8840 Einsiedeln
TRANSP:OPAQUE
SEQUENCE:0
UID:4906-veranstaltung@ref-einsiedeln.ch
DTSTAMP:20260422T140619Z
DESCRIPTION:Wie funktioniert unsere reformierte Kirche?\nWer regiert und
  wer bestimmt?\nWas kann mein Platz darin sein?\n\nPflichtprojekt
  Konfirmand:innen\n\n\nKontakt: Réka Jaeggi\n\nWeitere Infos:
  https://www.ref-einsiedeln.ch/veranstaltung/4906
SUMMARY:Selber Denken! Wir Reformierten - Einführungsnachmittag (Konf
  26/27)
PRIORITY:5
X-MICROSOFT-CDO-IMPORTANCE:1
CLASS:PUBLIC
END:VEVENT
END:VCALENDAR
