BEGIN:VCALENDAR
PRODID:-//kirchenweb.ch gmbh//veranstaltungsausgabe v2.0//DE
VERSION:2.0
METHOD:PUBLISH
BEGIN:VEVENT
DTSTART:20261115T090000Z
DTEND:20261115T120000Z
LOCATION:Kirche\, Schlüsselmattweg\, 8840 Einsiedeln
TRANSP:OPAQUE
SEQUENCE:0
UID:4907-veranstaltung@ref-einsiedeln.ch
DTSTAMP:20260422T140454Z
DESCRIPTION:Nach dem Gottesdienst besuchen wir die
  Kirchgemeindeversammlung.\n\nWie funktioniert unsere reformierte Kirche?
 \nWer regiert und wer bestimmt?\nWas kann mein Platz darin sein?\n
 \nPflichtprojekt für Konfirmand:innen\n\n\nKontakt: Réka Jaeggi\n
 \nWeitere Infos: https://www.ref-einsiedeln.ch/veranstaltung/4907
SUMMARY:Gottesdienst zur Kirchgemeineversammlung (Projekt: Selber Denken!
  Konf 26/27 anschliessend Kirchgemeindeversammlung)
PRIORITY:5
X-MICROSOFT-CDO-IMPORTANCE:1
CLASS:PUBLIC
END:VEVENT
END:VCALENDAR
