BEGIN:VCALENDAR
PRODID:-//kirchenweb.ch gmbh//veranstaltungsausgabe v2.0//DE
VERSION:2.0
METHOD:PUBLISH
BEGIN:VEVENT
DTSTART:20260926T123000Z
DTEND:20260926T170000Z
LOCATION:Kirchgemeindehaus\, Schlüsselmattweg\, 8840 Einsiedeln
TRANSP:OPAQUE
SEQUENCE:0
UID:4908-veranstaltung@ref-einsiedeln.ch
DTSTAMP:20260422T140454Z
DESCRIPTION:Zur Vorbereitung treffen wir uns alle am Samstag-Nachmittag
  vor dem Gottesdienst. Wir werden erkunden\, wie Dichter unserer Zeit ihr
  Christsein im Alltag\, ihre Schwierigkeiten\, Fragen und Nöte\, auch
  ihre Dankbarkeit und ihre Freude in der Verbindung zu Gott in Worte
  gefasst haben.\n\nWir lernen natürlich auch die Musik zu den Texten
  kennen\, mit Klavierbegleitung üben wir sie ein\, damit wir im
  Gottesdienst anschliessend gut und kräftig mitsingen können.\n\nLadet
  gerne Eure Eltern\, Grosseltern\, Geschwister\, Paten und alle eure
  Freunde\, egal welcher Konfession oder welchen Glaubens\, herzlich zum
  Gottesdienst ein\, der mit Eurer Beteiligung zu einem echten (RiseUp-)
  Plus wird.\n\nNach dem Gottesdienst treffen wir uns für ein gemütliches
  Zusammensein mit Gesprächen bei heisser Schoggi und mit feinem Zopf.\n
 \nDie Mithilfe und Teilnahme bei heisser Schoggi mit Zopf nach dem
  Gottesdienst gehört auch zum Projekt!\n\n\nKontakt: \n(Sebastian
  Bergholz am Klavier)\n\n\nWeitere Infos:
  https://www.ref-einsiedeln.ch/veranstaltung/4908
SUMMARY:«Rise up Plus» Lieder verstehen\, empfinden\, singen - Mit
  Abendgottesdienst (7/8 & Konf)
PRIORITY:5
X-MICROSOFT-CDO-IMPORTANCE:1
CLASS:PUBLIC
END:VEVENT
END:VCALENDAR
