BEGIN:VCALENDAR
PRODID:-//kirchenweb.ch gmbh//veranstaltungsausgabe v2.0//DE
VERSION:2.0
METHOD:PUBLISH
BEGIN:VEVENT
DTSTART:20261120T170000Z
DTEND:20261120T190000Z
LOCATION:Kirchgemeindehaus\, Schlüsselmattweg\, 8840 Einsiedeln
TRANSP:OPAQUE
SEQUENCE:0
UID:4914-veranstaltung@ref-einsiedeln.ch
DTSTAMP:20260417T095227Z
DESCRIPTION:«Meet & Create Cool Cards» - Weihnachtskarten für Deine
  Liebsten\n\n\n\nKontakt: edwin.egeter@ref-einsiedeln.ch\n\nWeitere Infos:
  https://www.ref-einsiedeln.ch/veranstaltung/4914
SUMMARY:Jugendgruppe UNITY Anmeldung
PRIORITY:5
X-MICROSOFT-CDO-IMPORTANCE:1
CLASS:PUBLIC
END:VEVENT
END:VCALENDAR
