BEGIN:VCALENDAR
PRODID:-//kirchenweb.ch gmbh//veranstaltungsausgabe v2.0//DE
VERSION:2.0
METHOD:PUBLISH
BEGIN:VEVENT
DTSTART:20261210T170000Z
DTEND:20261210T190000Z
LOCATION:Kirchgemeindehaus\, Schlüsselmattweg\, 8840 Einsiedeln
TRANSP:OPAQUE
SEQUENCE:0
UID:4916-veranstaltung@ref-einsiedeln.ch
DTSTAMP:20260417T095200Z
DESCRIPTION:«X-Mas Cookie Creation» \n\n\n\nKontakt:
  edwin.egeter@ref-einsiedeln.ch\n\nWeitere Infos:
  https://www.ref-einsiedeln.ch/veranstaltung/4916
SUMMARY:Jugendgruppe UNITY Anmeldung
PRIORITY:5
X-MICROSOFT-CDO-IMPORTANCE:1
CLASS:PUBLIC
END:VEVENT
END:VCALENDAR
