BEGIN:VCALENDAR
PRODID:-//kirchenweb.ch gmbh//veranstaltungsausgabe v2.0//DE
VERSION:2.0
METHOD:PUBLISH
BEGIN:VEVENT
DTSTART:20261104T123000Z
DTEND:20261104T143000Z
LOCATION:Kirchgemeindehaus\, Schlüsselmattweg\, 8840 Einsiedeln
TRANSP:OPAQUE
SEQUENCE:0
UID:4917-veranstaltung@ref-einsiedeln.ch
DTSTAMP:20260422T140456Z
DESCRIPTION:Vorbereitungsnachmittag mit Kurzfilm im Kirchgemeindhaus für
  einen Begegnungsabend von «Einsiedle mitenand». \n\nKontakt:
  susanne.caranci@ref-einsiedeln.ch\n\nWeitere Infos:
  https://www.ref-einsiedeln.ch/veranstaltung/4917
SUMMARY:7/8 Klasse Vorbereitungsnachmittag «Einsiedle mitenand»
PRIORITY:5
X-MICROSOFT-CDO-IMPORTANCE:1
CLASS:PUBLIC
END:VEVENT
END:VCALENDAR
