BEGIN:VCALENDAR
PRODID:-//kirchenweb.ch gmbh//veranstaltungsausgabe v2.0//DE
VERSION:2.0
METHOD:PUBLISH
BEGIN:VEVENT
DTSTART:20261116T162500Z
DTEND:20261116T193000Z
LOCATION:Zentrum Waldstatt\, Schmiedenstrasse 10\, Einsiedeln\, \,
TRANSP:OPAQUE
SEQUENCE:0
UID:4918-veranstaltung@ref-einsiedeln.ch
DTSTAMP:20260422T140454Z
DESCRIPTION:Nach dem Vorbereitungsabend von Mittwoch mit Kurzfilm im
  Kirchgemeindhaus besuchen wir einen Begegnungsabend von «Einsiedle
  mitenand». Dieser Abend beginnt mit gemeinsamen Tischgesprächen in
  Gruppen. Beim Nachtessen mit anschliessenden Spielen haben wir die
  Gelegenheit\, Menschen aus anderen Kulturen und anderen
  weltanschaulichen\, ethnischen oder reli-giösen Hintergründen zu
  begegnen und voneinander zu lernen.\n\nKontakt:
  susanne.caranci@ref-einsiedeln.ch\n\nWeitere Infos:
  https://www.ref-einsiedeln.ch/veranstaltung/4918
SUMMARY:7/8 Klasse Besuchsabend «Einsiedle mitenand»
PRIORITY:5
X-MICROSOFT-CDO-IMPORTANCE:1
CLASS:PUBLIC
END:VEVENT
END:VCALENDAR
