BEGIN:VCALENDAR
PRODID:-//kirchenweb.ch gmbh//veranstaltungsausgabe v2.0//DE
VERSION:2.0
METHOD:PUBLISH
BEGIN:VEVENT
DTSTART:20261212T073000Z
DTEND:20261212T103000Z
LOCATION:Kirchgemeindehaus\, Schlüsselmattweg\, 8840 Einsiedeln
TRANSP:OPAQUE
SEQUENCE:0
UID:4935-veranstaltung@ref-einsiedeln.ch
DTSTAMP:20260422T162633Z
DESCRIPTION:Hauptprobe in der Kirche\n\nKontakt: Heidi Degiorgi\n\nWeitere
  Infos: https://www.ref-einsiedeln.ch/veranstaltung/4935
SUMMARY:Vorbereitung Kinderweihnacht Hauptprobe (Unti 3-6 Klasse)
PRIORITY:5
X-MICROSOFT-CDO-IMPORTANCE:1
CLASS:PUBLIC
END:VEVENT
END:VCALENDAR
