BEGIN:VCALENDAR
PRODID:-//kirchenweb.ch gmbh//veranstaltungsausgabe v2.0//DE
VERSION:2.0
METHOD:PUBLISH
BEGIN:VEVENT
DTSTART:20261213T150000Z
DTEND:20261213T173000Z
LOCATION:Kirchgemeindehaus\, Schlüsselmattweg\, 8840 Einsiedeln
TRANSP:OPAQUE
SEQUENCE:0
UID:4936-veranstaltung@ref-einsiedeln.ch
DTSTAMP:20260422T162634Z
DESCRIPTION:Von 16.00 - 17.00 Uhr: letzte Vorbereitungen und Proben mit
  den Kindern\nKinderweihnacht: ab 17.15 Uhr für alle Familien \n
 \nKontakt: susanne.caranci@ref-einsiedeln.ch\n\nWeitere Infos:
  https://www.ref-einsiedeln.ch/veranstaltung/4936
SUMMARY:Aufführung des Krippenspiels an der Kinderweihnacht (Unti 3-6)
PRIORITY:5
X-MICROSOFT-CDO-IMPORTANCE:1
CLASS:PUBLIC
END:VEVENT
END:VCALENDAR
