BEGIN:VCALENDAR
PRODID:-//kirchenweb.ch gmbh//veranstaltungsausgabe v2.0//DE
VERSION:2.0
METHOD:PUBLISH
BEGIN:VEVENT
DTSTART:20260410T120000Z
DTEND:20260410T140000Z
LOCATION:Pfarrhaus\, Spitalstrasse 9\, 8840 Einsiedeln
TRANSP:OPAQUE
SEQUENCE:0
UID:4942-veranstaltung@ref-einsiedeln.ch
DTSTAMP:20260410T095217Z
DESCRIPTION:Trauergespräch\n\nKontakt: Pfrn. Réka Jaeggi\n\nWeitere
  Infos: https://www.ref-einsiedeln.ch/veranstaltung/4942
SUMMARY:Trauergespräch
PRIORITY:5
X-MICROSOFT-CDO-IMPORTANCE:1
CLASS:PUBLIC
END:VEVENT
END:VCALENDAR
