BEGIN:VCALENDAR
PRODID:-//kirchenweb.ch gmbh//veranstaltungsausgabe v2.0//DE
VERSION:2.0
METHOD:PUBLISH
BEGIN:VEVENT
DTSTART:20261024T070000Z
DTEND:20261024T113000Z
LOCATION:Kirchgemeindehaus\, Schlüsselmattweg\, 8840 Einsiedeln
TRANSP:OPAQUE
SEQUENCE:0
UID:4943-veranstaltung@ref-einsiedeln.ch
DTSTAMP:20260422T162632Z
DESCRIPTION:Vorbereitung Gottesdienst\n\nKontakt: Karin Pfister\n\nWeitere
  Infos: https://www.ref-einsiedeln.ch/veranstaltung/4943
SUMMARY:Wir gehören zusammen (mit Lunch)  (Unti 2. Klasse)
PRIORITY:5
X-MICROSOFT-CDO-IMPORTANCE:1
CLASS:PUBLIC
END:VEVENT
END:VCALENDAR
