BEGIN:VCALENDAR
PRODID:-//kirchenweb.ch gmbh//veranstaltungsausgabe v2.0//DE
VERSION:2.0
METHOD:PUBLISH
BEGIN:VEVENT
DTSTART:20261209T123000Z
DTEND:20261209T143000Z
LOCATION:Kirchgemeindehaus\, Schlüsselmattweg\, 8840 Einsiedeln
TRANSP:OPAQUE
SEQUENCE:0
UID:4961-veranstaltung@ref-einsiedeln.ch
DTSTAMP:20260422T140455Z
DESCRIPTION:Pflichtprojekt (als Alternative Spurensuche 1 am Samstag)\n
 \nKontakt: Pfrn. Réka Jaeggi\n\nWeitere Infos:
  https://www.ref-einsiedeln.ch/veranstaltung/4961
SUMMARY:Spurensuche 2 der 7/8 Klasse
PRIORITY:5
X-MICROSOFT-CDO-IMPORTANCE:1
CLASS:PUBLIC
END:VEVENT
END:VCALENDAR
