BEGIN:VCALENDAR
PRODID:-//kirchenweb.ch gmbh//veranstaltungsausgabe v2.0//DE
VERSION:2.0
METHOD:PUBLISH
BEGIN:VEVENT
DTSTART:20261111T123000Z
DTEND:20261111T153000Z
LOCATION:Kirchgemeindehaus\, Schlüsselmattweg\, 8840 Einsiedeln
TRANSP:OPAQUE
SEQUENCE:0
UID:4965-veranstaltung@ref-einsiedeln.ch
DTSTAMP:20260422T140454Z
DESCRIPTION:Kontakt: Pfrn. Réka Jaeggi\n\nWeitere Infos:
  https://www.ref-einsiedeln.ch/veranstaltung/4965
SUMMARY:Das Leben meistern: was andere von mir erwarten  7/8 Kl. Projekt
PRIORITY:5
X-MICROSOFT-CDO-IMPORTANCE:1
CLASS:PUBLIC
END:VEVENT
END:VCALENDAR
