BEGIN:VCALENDAR
PRODID:-//kirchenweb.ch gmbh//veranstaltungsausgabe v2.0//DE
VERSION:2.0
METHOD:PUBLISH
BEGIN:VEVENT
DTSTART:20260606T073000Z
DTEND:20260606T093000Z
LOCATION:Kirchgemeindehaus\, Schlüsselmattweg\, 8840 Einsiedeln
TRANSP:OPAQUE
SEQUENCE:0
UID:4969-veranstaltung@ref-einsiedeln.ch
DTSTAMP:20260422T140534Z
DESCRIPTION:Für die Konfirmandinnen und Konfirmanden ist der Anlass ein
  Pflicht-Teil des Konfirmations-Unterrichtes und dauert bis um 11.30 Uhr.
  Die Eltern sind ebenfalls herzlich bis um 10.30 Uhr eingeladen. Wir
  freuen uns\, die Konfirmand:innen und die Eltern an diesem Anlass
  begrüssen zu dürfen. \n\nKontakt: Pfrn. Réka Jaeggi\nPfr. Urs Jäger\n
 \nWeitere Infos: https://www.ref-einsiedeln.ch/veranstaltung/4969
SUMMARY:Infomorgen mit Konfirmand:innen und ihren Eltern Konf 26/27
PRIORITY:5
X-MICROSOFT-CDO-IMPORTANCE:1
CLASS:PUBLIC
END:VEVENT
END:VCALENDAR
