BEGIN:VCALENDAR
PRODID:-//kirchenweb.ch gmbh//veranstaltungsausgabe v2.0//DE
VERSION:2.0
METHOD:PUBLISH
BEGIN:VEVENT
DTSTART:20261031T130000Z
DTEND:20261031T170000Z
LOCATION:Kirchgemeindehaus\, Schlüsselmattweg\, 8840 Einsiedeln
TRANSP:OPAQUE
SEQUENCE:0
UID:4980-veranstaltung@ref-einsiedeln.ch
DTSTAMP:20260422T140456Z
DESCRIPTION:Wir bereiten gemeinsam den Jugendgottesdienst vor\, den wir im
  Anschluss zusammen mit der Kirchgemeinde feiern. Pflichtprojekt für
  Konfirmand:innen\n\nKontakt: Pfr. Urs Jäger\n\nWeitere Infos:
  https://www.ref-einsiedeln.ch/veranstaltung/4980
SUMMARY:Vorbereitung Jugendgottesdienst zum Reformationstag (ab 17 Uhr GD)
  Konf 26/27
PRIORITY:5
X-MICROSOFT-CDO-IMPORTANCE:1
CLASS:PUBLIC
END:VEVENT
END:VCALENDAR
