BEGIN:VCALENDAR
PRODID:-//kirchenweb.ch gmbh//veranstaltungsausgabe v2.0//DE
VERSION:2.0
METHOD:PUBLISH
BEGIN:VEVENT
DTSTART:20261125T123000Z
DTEND:20261125T150000Z
LOCATION:Kirchgemeindehaus\, Schlüsselmattweg\, 8840 Einsiedeln
TRANSP:OPAQUE
SEQUENCE:0
UID:4982-veranstaltung@ref-einsiedeln.ch
DTSTAMP:20260422T162632Z
DESCRIPTION:Kontakt: Heidi Degiorgi\n\nWeitere Infos:
  https://www.ref-einsiedeln.ch/veranstaltung/4982
SUMMARY:Advent\, Weihnachten & Kindheit Jesus (Unti 2. Klasse)
PRIORITY:5
X-MICROSOFT-CDO-IMPORTANCE:1
CLASS:PUBLIC
END:VEVENT
END:VCALENDAR
