BEGIN:VCALENDAR
PRODID:-//kirchenweb.ch gmbh//veranstaltungsausgabe v2.0//DE
VERSION:2.0
METHOD:PUBLISH
BEGIN:VEVENT
DTSTART:20260911T173000Z
DTEND:20260911T183000Z
LOCATION:Kirchgemeindehaus\, Schlüsselmattweg\, 8840 Einsiedeln
TRANSP:OPAQUE
SEQUENCE:0
UID:4985-veranstaltung@ref-einsiedeln.ch
DTSTAMP:20260422T162631Z
DESCRIPTION:Kontakt: Karin Pfister\n\nWeitere Infos:
  https://www.ref-einsiedeln.ch/veranstaltung/4985
SUMMARY:Die Kirche - ein besonderes Haus (mit Übernachtung) (Unti 3/4
  Gruppe A)
PRIORITY:5
X-MICROSOFT-CDO-IMPORTANCE:1
CLASS:PUBLIC
END:VEVENT
END:VCALENDAR
