BEGIN:VCALENDAR
PRODID:-//kirchenweb.ch gmbh//veranstaltungsausgabe v2.0//DE
VERSION:2.0
METHOD:PUBLISH
BEGIN:VEVENT
DTSTART:20260823T080000Z
DTEND:20260823T100000Z
LOCATION:Kirche\, Schlüsselmattweg\, 8840 Einsiedeln
TRANSP:OPAQUE
SEQUENCE:0
UID:4994-veranstaltung@ref-einsiedeln.ch
DTSTAMP:20260422T140739Z
DESCRIPTION:Am Anfang des Konfirmationsjahres versuchen wir stets ein
  «Lebensmotto» zu ergründen und für unser gemeinsames Konf’-Jahr zu
  setzen. Dieses Jahr wird der Begrüssungs-Gottesdienst zugleich auch ein
  Familiengottesdienst sein.\n\nIn diesem Projekt möchten wir
  generationenübergreifend einen Gottesdienst feiern und unsere
  christliche Spiritualität pflegen.\n\nNach dem Gottesdienst\, werden wir
  bei einem Apéro die Gelegenheit haben\, uns auszutauschen und besser
  kennen zu ler-nen. Auch das gehört zum Projekt\, denn beim Apéro
  pflegen wir die «Tischgemeinschaft»\, die einen wichtigen Teil des
  Konfir-mandenunterrichtes darstellt.\n\nBegrüssungs-Gottesdienst mit
  Familien!\nDas Dabeisein beim Apéro gehört zum Projekt\n\n\n\n
 \nKontakt: Pfrn. Réka Jaeggi\n\nWeitere Infos:
  https://www.ref-einsiedeln.ch/veranstaltung/4994
SUMMARY:Konf Begrüssungs-Gottesdienst Thema: «Den eigenen Glaubensweg
  finden»
PRIORITY:5
X-MICROSOFT-CDO-IMPORTANCE:1
CLASS:PUBLIC
END:VEVENT
END:VCALENDAR
