BEGIN:VCALENDAR
PRODID:-//kirchenweb.ch gmbh//veranstaltungsausgabe v2.0//DE
VERSION:2.0
METHOD:PUBLISH
BEGIN:VEVENT
DTSTART:20261028T123000Z
DTEND:20261028T153000Z
LOCATION:Auswärts\, \,
TRANSP:OPAQUE
SEQUENCE:0
UID:5003-veranstaltung@ref-einsiedeln.ch
DTSTAMP:20260422T162631Z
DESCRIPTION:Kontakt: Andrea Läderach-Tanner\n\nWeitere Infos:
  https://www.ref-einsiedeln.ch/veranstaltung/5003
SUMMARY:Singen im Altersheim (Unti 3-6)
PRIORITY:5
X-MICROSOFT-CDO-IMPORTANCE:1
CLASS:PUBLIC
END:VEVENT
END:VCALENDAR
