BEGIN:VCALENDAR
PRODID:-//kirchenweb.ch gmbh//veranstaltungsausgabe v2.0//DE
VERSION:2.0
METHOD:PUBLISH
BEGIN:VEVENT
DTSTART:20261104T123000Z
DTEND:20261104T153000Z
LOCATION:Kirchgemeindehaus\, Schlüsselmattweg\, 8840 Einsiedeln
TRANSP:OPAQUE
SEQUENCE:0
UID:5004-veranstaltung@ref-einsiedeln.ch
DTSTAMP:20260422T162630Z
DESCRIPTION:Kontakt: Heidi Degiorgi\n\nWeitere Infos:
  https://www.ref-einsiedeln.ch/veranstaltung/5004
SUMMARY:Jona (Unti 3-6)
PRIORITY:5
X-MICROSOFT-CDO-IMPORTANCE:1
CLASS:PUBLIC
END:VEVENT
END:VCALENDAR
