BEGIN:VCALENDAR
PRODID:-//kirchenweb.ch gmbh//veranstaltungsausgabe v2.0//DE
VERSION:2.0
METHOD:PUBLISH
BEGIN:VEVENT
DTSTART:20261114T080000Z
DTEND:20261114T110000Z
LOCATION:Kirchgemeindehaus\, Schlüsselmattweg\, 8840 Einsiedeln
TRANSP:OPAQUE
SEQUENCE:0
UID:5006-veranstaltung@ref-einsiedeln.ch
DTSTAMP:20260422T162630Z
DESCRIPTION:Kontakt: Andrea Läderach-Tanner\n\nWeitere Infos:
  https://www.ref-einsiedeln.ch/veranstaltung/5006
SUMMARY:Von Martin das Teilen lernen (Unti 3-6)
PRIORITY:5
X-MICROSOFT-CDO-IMPORTANCE:1
CLASS:PUBLIC
END:VEVENT
END:VCALENDAR
