BEGIN:VCALENDAR
PRODID:-//kirchenweb.ch gmbh//veranstaltungsausgabe v2.0//DE
VERSION:2.0
METHOD:PUBLISH
BEGIN:VEVENT
DTSTART:20260902T113000Z
DTEND:20260902T143000Z
LOCATION:Kirchgemeindehaus\, Schlüsselmattweg\, 8840 Einsiedeln
TRANSP:OPAQUE
SEQUENCE:0
UID:5011-veranstaltung@ref-einsiedeln.ch
DTSTAMP:20260422T162629Z
DESCRIPTION:Kontakt: Andrea Läderach-Tanner\n\nWeitere Infos:
  https://www.ref-einsiedeln.ch/veranstaltung/5011
SUMMARY:Das Kirchenjahr (Unti 5/6 Gruppe A)
PRIORITY:5
X-MICROSOFT-CDO-IMPORTANCE:1
CLASS:PUBLIC
END:VEVENT
END:VCALENDAR
