BEGIN:VCALENDAR
PRODID:-//kirchenweb.ch gmbh//veranstaltungsausgabe v2.0//DE
VERSION:2.0
METHOD:PUBLISH
BEGIN:VEVENT
DTSTART:20260919T070000Z
DTEND:20260919T113000Z
LOCATION:Kirchgemeindehaus\, Schlüsselmattweg\, 8840 Einsiedeln
TRANSP:OPAQUE
SEQUENCE:0
UID:5019-veranstaltung@ref-einsiedeln.ch
DTSTAMP:20260422T162632Z
DESCRIPTION:Kontakt: Andrea Läderach-Tanner\n\nWeitere Infos:
  https://www.ref-einsiedeln.ch/veranstaltung/5019
SUMMARY:David (mit Lunch) (Unti 5/6 Gruppe B)
PRIORITY:5
X-MICROSOFT-CDO-IMPORTANCE:1
CLASS:PUBLIC
END:VEVENT
END:VCALENDAR
