BEGIN:VCALENDAR
PRODID:-//kirchenweb.ch gmbh//veranstaltungsausgabe v2.0//DE
VERSION:2.0
METHOD:PUBLISH
BEGIN:VEVENT
DTSTART:20261025T090000Z
DTEND:20261025T100000Z
LOCATION:Kirchgemeindehaus\, Schlüsselmattweg\, 8840 Einsiedeln
TRANSP:OPAQUE
SEQUENCE:0
UID:5025-veranstaltung@ref-einsiedeln.ch
DTSTAMP:20260422T162630Z
DESCRIPTION:Durchführung Gottesdienst mit 2. Klasse\n\nKontakt: Karin
  Pfister\n\nWeitere Infos:
  https://www.ref-einsiedeln.ch/veranstaltung/5025
SUMMARY:Wir gehören zusammen: Durchführung Familiengottesdienst (Unti 2.
  Klasse)
PRIORITY:5
X-MICROSOFT-CDO-IMPORTANCE:1
CLASS:PUBLIC
END:VEVENT
END:VCALENDAR
