BEGIN:VCALENDAR
PRODID:-//kirchenweb.ch gmbh//veranstaltungsausgabe v2.0//DE
VERSION:2.0
METHOD:PUBLISH
BEGIN:VEVENT
DTSTART;VALUE=DATE:20260917
DTEND;VALUE=DATE:20260918
LOCATION:Auswärts\, \,
TRANSP:OPAQUE
SEQUENCE:0
UID:5031-veranstaltung@ref-einsiedeln.ch
DTSTAMP:20260421T153510Z
DESCRIPTION:Details zu Programm und Anmeldung folgen\n\nKontakt:
  urs.jaeger@ref-einsiedeln.ch\n\nWeitere Infos:
  https://www.ref-einsiedeln.ch/veranstaltung/5031
SUMMARY:Ausflug 60+
PRIORITY:5
X-MICROSOFT-CDO-IMPORTANCE:1
CLASS:PUBLIC
END:VEVENT
END:VCALENDAR
